BEGIN:VCALENDAR
VERSION:2.0
PRODID:-//Tukios.com/
BEGIN:VEVENT
UID:48db4226-e170-4031-92bc-19c7a21edd43@www.feiserfuneralhome.com
DTSTAMP:20260423T005446Z
DTSTART:20260425T140000Z
DTEND:20260425T150000Z
SUMMARY:Funeral Mass
DESCRIPTION:
URL:https://www.feiserfuneralhome.com/obituaries/rosaria-maniscalco
LOCATION:Immaculate Conception Catholic Church 106 Carlisle Street  New 
	Oxford PA 17350
GEO:39.8645671;-77.0569973
END:VEVENT
END:VCALENDAR