BEGIN:VCALENDAR
VERSION:2.0
PRODID:-//Tukios.com/
BEGIN:VEVENT
UID:58b114d4-5deb-49e5-baaa-822d79976095@www.feiserfuneralhome.com
DTSTAMP:20260423T005445Z
DTSTART:20260425T130000Z
DTEND:20260425T140000Z
SUMMARY:Visitation
DESCRIPTION:
URL:https://www.feiserfuneralhome.com/obituaries/rosaria-maniscalco
LOCATION:Immaculate Conception Catholic Church 106 Carlisle Street  New 
	Oxford PA 17350
GEO:39.8645671;-77.0569973
END:VEVENT
END:VCALENDAR